BEGIN:VCALENDAR
VERSION:2.0
PRODID:-//Tukios.com/
BEGIN:VEVENT
UID:72d5e575-51e0-4fc2-adac-a8b3c4e4f15e@www.zabkaperduefuneralhome.com
DTSTAMP:20260424T011812Z
DTSTART:20260426T180000Z
DTEND:20260426T210000Z
SUMMARY:Visitation
DESCRIPTION:Memorial contributions may be made to the Helman Family, 
	Assumption Catholic Church or the Dwight Volunteer Fire Department
URL:https://www.zabkaperduefuneralhome.com/obituaries/marty-helman
LOCATION: 376 Pine St  Dwight NE 68635
GEO:41.0838249;-97.0234985
END:VEVENT
END:VCALENDAR