BEGIN:VCALENDAR
VERSION:2.0
PRODID:-//Tukios.com/
BEGIN:VEVENT
UID:aadebc4f-82b1-455a-880c-ef180b53e18c@www.zabkaperduefuneralhome.com
DTSTAMP:20260424T011932Z
DTSTART:20260426T220000Z
DTEND:20260427T000000Z
SUMMARY:Visitation with Family
DESCRIPTION:
URL:https://www.zabkaperduefuneralhome.com/obituaries/marty-helman
LOCATION: 300 Pine Street  Dwight NE 68635
GEO:41.0835513;-97.021976
END:VEVENT
END:VCALENDAR