BEGIN:VCALENDAR
VERSION:2.0
PRODID:-//Tukios.com/
BEGIN:VEVENT
UID:d527363a-ab2f-4393-9643-f9e86e5315a7@www.zabkaperduefuneralhome.com
DTSTAMP:20260424T011448Z
DTSTART:20260427T000000Z
DTEND:20260427T010000Z
SUMMARY:Rosary
DESCRIPTION:Father Raymond Jansen will be Praying the Rosary.
URL:https://www.zabkaperduefuneralhome.com/obituaries/marty-helman
LOCATION: 336 Pine St  Dwight NE 68635
GEO:41.0838677;-97.022417
END:VEVENT
END:VCALENDAR