BEGIN:VCALENDAR
VERSION:2.0
PRODID:-//Tukios.com/
BEGIN:VEVENT
UID:4131d26d-5c6b-4585-98c2-a6dea867d94a@www.zabkaperduefuneralhome.com
DTSTAMP:20260424T011449Z
DTSTART:20260427T150000Z
DTEND:20260427T160000Z
SUMMARY:Mass of Christian Burial
DESCRIPTION:Father Raymond Jansen will be Celebrating the Mass.
URL:https://www.zabkaperduefuneralhome.com/obituaries/marty-helman
LOCATION: 300 Pine Street  Dwight NE 68635
GEO:41.0835513;-97.021976
END:VEVENT
END:VCALENDAR