BEGIN:VCALENDAR
VERSION:2.0
PRODID:-//Tukios.com/
BEGIN:VEVENT
UID:65684a4a-c6af-4bbf-b6ba-394a7d3591a7@www.zabkaperduefuneralhome.com
DTSTAMP:20260424T011614Z
DTSTART:20260427T160000Z
DTEND:20260427T170000Z
SUMMARY:Interment
DESCRIPTION:
URL:https://www.zabkaperduefuneralhome.com/obituaries/marty-helman
LOCATION: S Road  Dwight NE 
GEO:41.0829632;-97.0237982
END:VEVENT
END:VCALENDAR